BEGIN:VCALENDAR
VERSION:2.0
PRODID:-//Hardloopfreak.nl - ECPv6.2.9//NONSGML v1.0//EN
CALSCALE:GREGORIAN
METHOD:PUBLISH
X-ORIGINAL-URL:https://hardloopfreak.nl
X-WR-CALDESC:Evenementen voor Hardloopfreak.nl
REFRESH-INTERVAL;VALUE=DURATION:PT1H
X-Robots-Tag:noindex
X-PUBLISHED-TTL:PT1H
BEGIN:VTIMEZONE
TZID:UTC
BEGIN:STANDARD
TZOFFSETFROM:+0000
TZOFFSETTO:+0000
TZNAME:UTC
DTSTART:20220101T000000
END:STANDARD
END:VTIMEZONE
BEGIN:VEVENT
DTSTART;VALUE=DATE:20221224
DTEND;VALUE=DATE:20221225
DTSTAMP:20260423T205636
CREATED:20221122T132558Z
LAST-MODIFIED:20221122T132558Z
UID:1445-1671840000-1671926399@hardloopfreak.nl
SUMMARY:Winter Marathon Leeuwarden
DESCRIPTION:5km\, 7\,5km\, 10km\, 15km\, halve marathon\, marathon
URL:https://hardloopfreak.nl/wedstrijd/winter-marathon-leeuwarden/
LOCATION:Winter Marathon Leeuwarden\, Leeuwarden\, Friesland
CATEGORIES:10km,15km,21km,42km,5km
END:VEVENT
END:VCALENDAR