BEGIN:VCALENDAR
VERSION:2.0
PRODID:-//Hardloopfreak.nl - ECPv6.2.9//NONSGML v1.0//EN
CALSCALE:GREGORIAN
METHOD:PUBLISH
X-WR-CALNAME:Hardloopfreak.nl
X-ORIGINAL-URL:https://hardloopfreak.nl
X-WR-CALDESC:Evenementen voor Hardloopfreak.nl
REFRESH-INTERVAL;VALUE=DURATION:PT1H
X-Robots-Tag:noindex
X-PUBLISHED-TTL:PT1H
BEGIN:VTIMEZONE
TZID:UTC
BEGIN:STANDARD
TZOFFSETFROM:+0000
TZOFFSETTO:+0000
TZNAME:UTC
DTSTART:20230101T000000
END:STANDARD
END:VTIMEZONE
BEGIN:VEVENT
DTSTART;VALUE=DATE:20230122
DTEND;VALUE=DATE:20230123
DTSTAMP:20260423T191651
CREATED:20221122T140923Z
LAST-MODIFIED:20221122T140923Z
UID:1474-1674345600-1674431999@hardloopfreak.nl
SUMMARY:Turfveld Wintercross\, Texel (2)
DESCRIPTION:2\,7km\, 5\,4km\, 8km
URL:https://hardloopfreak.nl/wedstrijd/turfveld-wintercross-texel-2/
LOCATION:Turfveld Wintercross\, Texel\, Den Burg\, Texel\, Noord-Holland\, Netherlands
END:VEVENT
BEGIN:VEVENT
DTSTART;VALUE=DATE:20230122
DTEND;VALUE=DATE:20230123
DTSTAMP:20260423T191651
CREATED:20221122T142511Z
LAST-MODIFIED:20221122T142511Z
UID:1478-1674345600-1674431999@hardloopfreak.nl
SUMMARY:Ruitenburg Halve Maassluis
DESCRIPTION:5km\, 10km\, halve marathon
URL:https://hardloopfreak.nl/wedstrijd/ruitenburg-halve-maassluis/
LOCATION:Ruitenburg Halve\, Maassluis\, Zuid-Holland\, Netherlands
CATEGORIES:10km,21km,5km
END:VEVENT
END:VCALENDAR