BEGIN:VCALENDAR
VERSION:2.0
PRODID:-//Hardloopfreak.nl - ECPv6.2.9//NONSGML v1.0//EN
CALSCALE:GREGORIAN
METHOD:PUBLISH
X-ORIGINAL-URL:https://hardloopfreak.nl
X-WR-CALDESC:Evenementen voor Hardloopfreak.nl
REFRESH-INTERVAL;VALUE=DURATION:PT1H
X-Robots-Tag:noindex
X-PUBLISHED-TTL:PT1H
BEGIN:VTIMEZONE
TZID:UTC
BEGIN:STANDARD
TZOFFSETFROM:+0000
TZOFFSETTO:+0000
TZNAME:UTC
DTSTART:20230101T000000
END:STANDARD
END:VTIMEZONE
BEGIN:VEVENT
DTSTART;VALUE=DATE:20230205
DTEND;VALUE=DATE:20230206
DTSTAMP:20260423T210739
CREATED:20221123T083854Z
LAST-MODIFIED:20221123T083922Z
UID:1508-1675555200-1675641599@hardloopfreak.nl
SUMMARY:Groene Hart Loop
DESCRIPTION:400m\, 800m\, 15oom\, 5km\, 10km\, halve marathon
URL:https://hardloopfreak.nl/wedstrijd/groene-hart-loop/
LOCATION:Groene Hart Loop\, Gouda\, Zuid-Holland\, Nederland
CATEGORIES:10km,2023,21km,5km
END:VEVENT
BEGIN:VEVENT
DTSTART;VALUE=DATE:20230205
DTEND;VALUE=DATE:20230206
DTSTAMP:20260423T210739
CREATED:20221123T081645Z
LAST-MODIFIED:20221123T081645Z
UID:1498-1675555200-1675641599@hardloopfreak.nl
SUMMARY:Twiskemolenloop Februari
DESCRIPTION:3km\, 5km\, 10km\, 16km\, halve marathon
URL:https://hardloopfreak.nl/wedstrijd/twiskemolenloop-februari/
LOCATION:Zuid-Holland
CATEGORIES:10km,15km,2023,5km
END:VEVENT
BEGIN:VEVENT
DTSTART;VALUE=DATE:20230205
DTEND;VALUE=DATE:20230206
DTSTAMP:20260423T210739
CREATED:20221123T082028Z
LAST-MODIFIED:20221123T082028Z
UID:1503-1675555200-1675641599@hardloopfreak.nl
SUMMARY:Centraal Beheer Midwinter Marathon
DESCRIPTION:8km\, 16km\, 25km
URL:https://hardloopfreak.nl/wedstrijd/centraal-beheer-midwinter-marathon/
LOCATION:Midwinter Marathon Amersfoort\, Amersfoort\, Utrecht\, Nederland
CATEGORIES:10km,15km,2023,21km
END:VEVENT
END:VCALENDAR