BEGIN:VCALENDAR
VERSION:2.0
PRODID:-//Hardloopfreak.nl - ECPv6.2.9//NONSGML v1.0//EN
CALSCALE:GREGORIAN
METHOD:PUBLISH
X-ORIGINAL-URL:https://hardloopfreak.nl
X-WR-CALDESC:Evenementen voor Hardloopfreak.nl
REFRESH-INTERVAL;VALUE=DURATION:PT1H
X-Robots-Tag:noindex
X-PUBLISHED-TTL:PT1H
BEGIN:VTIMEZONE
TZID:UTC
BEGIN:STANDARD
TZOFFSETFROM:+0000
TZOFFSETTO:+0000
TZNAME:UTC
DTSTART:20230101T000000
END:STANDARD
END:VTIMEZONE
BEGIN:VEVENT
DTSTART;VALUE=DATE:20230212
DTEND;VALUE=DATE:20230213
DTSTAMP:20260423T150219
CREATED:20221123T085608Z
LAST-MODIFIED:20221123T085608Z
UID:1516-1676160000-1676246399@hardloopfreak.nl
SUMMARY:Groet uit Schoorl Run
DESCRIPTION:10km\, halve marathon\, 30k
URL:https://hardloopfreak.nl/wedstrijd/groet-uit-schoorl-run/
LOCATION:Groet uit Schoorl Run\, Schoorl\, Noord-Holland\, Nederland
CATEGORIES:10km,2023,21km
END:VEVENT
BEGIN:VEVENT
DTSTART;VALUE=DATE:20230212
DTEND;VALUE=DATE:20230213
DTSTAMP:20260423T150219
CREATED:20221123T090330Z
LAST-MODIFIED:20221123T090330Z
UID:1521-1676160000-1676246399@hardloopfreak.nl
SUMMARY:Turfveld Wintercross\, Texel (3)
DESCRIPTION:2\,7km\, 5\,4km\, 8km
URL:https://hardloopfreak.nl/wedstrijd/turfveld-wintercross-texel-3/
LOCATION:Turfveld Wintercross\, Texel\, Den Burg\, Texel\, Noord-Holland\, Netherlands
CATEGORIES:2023
END:VEVENT
END:VCALENDAR