BEGIN:VCALENDAR
VERSION:2.0
PRODID:-//Hardloopfreak.nl - ECPv6.2.9//NONSGML v1.0//EN
CALSCALE:GREGORIAN
METHOD:PUBLISH
X-WR-CALNAME:Hardloopfreak.nl
X-ORIGINAL-URL:https://hardloopfreak.nl
X-WR-CALDESC:Evenementen voor Hardloopfreak.nl
REFRESH-INTERVAL;VALUE=DURATION:PT1H
X-Robots-Tag:noindex
X-PUBLISHED-TTL:PT1H
BEGIN:VTIMEZONE
TZID:UTC
BEGIN:STANDARD
TZOFFSETFROM:+0000
TZOFFSETTO:+0000
TZNAME:UTC
DTSTART:20230101T000000
END:STANDARD
END:VTIMEZONE
BEGIN:VEVENT
DTSTART;VALUE=DATE:20230219
DTEND;VALUE=DATE:20230220
DTSTAMP:20260423T132937
CREATED:20221123T090710Z
LAST-MODIFIED:20221123T090710Z
UID:1525-1676764800-1676851199@hardloopfreak.nl
SUMMARY:Lansingerland Run
DESCRIPTION:5km\, 10km\, halve marathon\, 30km
URL:https://hardloopfreak.nl/wedstrijd/lansingerland-run/
LOCATION:Lansingerland Run\, Berkel en Rodenrijs\, Zuid-Holland\, Nederland
CATEGORIES:10km,15km,2023,21km,5km
END:VEVENT
BEGIN:VEVENT
DTSTART;VALUE=DATE:20230219
DTEND;VALUE=DATE:20230220
DTSTAMP:20260423T132937
CREATED:20221123T091037Z
LAST-MODIFIED:20221123T091037Z
UID:1529-1676764800-1676851199@hardloopfreak.nl
SUMMARY:De Knikker Zegerplasloop
DESCRIPTION:5km\, 10km\, 15km\, 20km
URL:https://hardloopfreak.nl/wedstrijd/de-knikker-zegerplasloop/
LOCATION:Zegerplasloop\, Alphen aan den Rijn\, Zuid-Holland\, Nederland
CATEGORIES:10km,15km,2023,5km
END:VEVENT
BEGIN:VEVENT
DTSTART;VALUE=DATE:20230219
DTEND;VALUE=DATE:20230220
DTSTAMP:20260423T132937
CREATED:20221123T091720Z
LAST-MODIFIED:20221123T091720Z
UID:1534-1676764800-1676851199@hardloopfreak.nl
SUMMARY:PK Sport Bosdijkloop
DESCRIPTION:5km\, 10km\, halve marathon
URL:https://hardloopfreak.nl/wedstrijd/pk-sport-bosdijkloop/
LOCATION:Bosdijkloop\, Vinkeveen\, Utrecht\, Nederland
CATEGORIES:10km,2023,21km,5km
END:VEVENT
END:VCALENDAR