BEGIN:VCALENDAR
VERSION:2.0
PRODID:-//Hardloopfreak.nl - ECPv6.2.9//NONSGML v1.0//EN
CALSCALE:GREGORIAN
METHOD:PUBLISH
X-ORIGINAL-URL:https://hardloopfreak.nl
X-WR-CALDESC:Evenementen voor Hardloopfreak.nl
REFRESH-INTERVAL;VALUE=DURATION:PT1H
X-Robots-Tag:noindex
X-PUBLISHED-TTL:PT1H
BEGIN:VTIMEZONE
TZID:UTC
BEGIN:STANDARD
TZOFFSETFROM:+0000
TZOFFSETTO:+0000
TZNAME:UTC
DTSTART:20230101T000000
END:STANDARD
END:VTIMEZONE
BEGIN:VEVENT
DTSTART;VALUE=DATE:20230305
DTEND;VALUE=DATE:20230306
DTSTAMP:20260423T133031
CREATED:20221124T082433Z
LAST-MODIFIED:20221124T082433Z
UID:1544-1677974400-1678060799@hardloopfreak.nl
SUMMARY:Twiskemolenloop Maart
DESCRIPTION:3km\, 5km\, 10km\, 16km\, halve marathon
URL:https://hardloopfreak.nl/wedstrijd/twiskemolenloop-maart/
LOCATION:Twiskemolenloop\, Landsmeer\, Noord-Holland\, Netherlands
CATEGORIES:10km,2023,21km,5km
END:VEVENT
BEGIN:VEVENT
DTSTART;VALUE=DATE:20230305
DTEND;VALUE=DATE:20230306
DTSTAMP:20260423T133031
CREATED:20221124T082732Z
LAST-MODIFIED:20221124T082732Z
UID:1548-1677974400-1678060799@hardloopfreak.nl
SUMMARY:Rondje Goutum
DESCRIPTION:2km\, 5km\, 10km\, halve marathon
URL:https://hardloopfreak.nl/wedstrijd/rondje-goutum/
LOCATION:Rondje Goutum\, Leeuwarden\, Friesland\, Nederland
CATEGORIES:10km,2023,21km,5km
END:VEVENT
END:VCALENDAR