BEGIN:VCALENDAR
VERSION:2.0
PRODID:-//Hardloopfreak.nl - ECPv6.2.9//NONSGML v1.0//EN
CALSCALE:GREGORIAN
METHOD:PUBLISH
X-ORIGINAL-URL:https://hardloopfreak.nl
X-WR-CALDESC:Evenementen voor Hardloopfreak.nl
REFRESH-INTERVAL;VALUE=DURATION:PT1H
X-Robots-Tag:noindex
X-PUBLISHED-TTL:PT1H
BEGIN:VTIMEZONE
TZID:UTC
BEGIN:STANDARD
TZOFFSETFROM:+0000
TZOFFSETTO:+0000
TZNAME:UTC
DTSTART:20230101T000000
END:STANDARD
END:VTIMEZONE
BEGIN:VEVENT
DTSTART;VALUE=DATE:20230408
DTEND;VALUE=DATE:20230409
DTSTAMP:20260423T122239
CREATED:20221124T125812Z
LAST-MODIFIED:20221124T125812Z
UID:1578-1680912000-1680998399@hardloopfreak.nl
SUMMARY:Run2Day Vlinderloop (4)
DESCRIPTION:5\,2km\, 11\,1km\, 15\,2km\, halve marathon
URL:https://hardloopfreak.nl/wedstrijd/run2day-vlinderloop-4/
LOCATION:Vlinderloop Houten\, Houten\, Utrecht\, Netherlands
CATEGORIES:10km,15km,2023,21km,5km
END:VEVENT
END:VCALENDAR