BEGIN:VCALENDAR
VERSION:2.0
PRODID:-//Hardloopfreak.nl - ECPv6.2.9//NONSGML v1.0//EN
CALSCALE:GREGORIAN
METHOD:PUBLISH
X-ORIGINAL-URL:https://hardloopfreak.nl
X-WR-CALDESC:Evenementen voor Hardloopfreak.nl
REFRESH-INTERVAL;VALUE=DURATION:PT1H
X-Robots-Tag:noindex
X-PUBLISHED-TTL:PT1H
BEGIN:VTIMEZONE
TZID:UTC
BEGIN:STANDARD
TZOFFSETFROM:+0000
TZOFFSETTO:+0000
TZNAME:UTC
DTSTART:20230101T000000
END:STANDARD
END:VTIMEZONE
BEGIN:VEVENT
DTSTART;VALUE=DATE:20230415
DTEND;VALUE=DATE:20230416
DTSTAMP:20260423T094043
CREATED:20221124T131315Z
LAST-MODIFIED:20221124T131315Z
UID:1590-1681516800-1681603199@hardloopfreak.nl
SUMMARY:Cityrun Rotterdam
DESCRIPTION:4\,2km
URL:https://hardloopfreak.nl/wedstrijd/cityrun-rotterdam/
LOCATION:Rotterdam Marathon\, Rotterdam\, Zuid-Holland\, Nederland
CATEGORIES:2023
END:VEVENT
END:VCALENDAR