BEGIN:VCALENDAR
VERSION:2.0
PRODID:-//Hardloopfreak.nl - ECPv6.2.9//NONSGML v1.0//EN
CALSCALE:GREGORIAN
METHOD:PUBLISH
X-WR-CALNAME:Hardloopfreak.nl
X-ORIGINAL-URL:https://hardloopfreak.nl
X-WR-CALDESC:Evenementen voor Hardloopfreak.nl
REFRESH-INTERVAL;VALUE=DURATION:PT1H
X-Robots-Tag:noindex
X-PUBLISHED-TTL:PT1H
BEGIN:VTIMEZONE
TZID:UTC
BEGIN:STANDARD
TZOFFSETFROM:+0000
TZOFFSETTO:+0000
TZNAME:UTC
DTSTART:20230101T000000
END:STANDARD
END:VTIMEZONE
BEGIN:VEVENT
DTSTART;VALUE=DATE:20230416
DTEND;VALUE=DATE:20230417
DTSTAMP:20260423T105113
CREATED:20221124T130417Z
LAST-MODIFIED:20221124T130417Z
UID:1580-1681603200-1681689599@hardloopfreak.nl
SUMMARY:Eschede Marathon
DESCRIPTION:5km\, 10km\, halve marathon\, marathon
URL:https://hardloopfreak.nl/wedstrijd/eschede-marathon/
LOCATION:Enschede Marathon\, Enschede\, Overijssel\, Nederland
CATEGORIES:10km,2023,21km,42km
END:VEVENT
BEGIN:VEVENT
DTSTART;VALUE=DATE:20230416
DTEND;VALUE=DATE:20230417
DTSTAMP:20260423T105113
CREATED:20221124T130922Z
LAST-MODIFIED:20221124T131200Z
UID:1587-1681603200-1681689599@hardloopfreak.nl
SUMMARY:NN Marathon Rotterdam
DESCRIPTION:10.55km\, marathon
URL:https://hardloopfreak.nl/wedstrijd/nn-marathon-rotterdam/
LOCATION:Rotterdam Marathon\, Rotterdam\, Zuid-Holland\, Nederland
CATEGORIES:10km,2023,42km
END:VEVENT
END:VCALENDAR