BEGIN:VCALENDAR
VERSION:2.0
PRODID:-//Hardloopfreak.nl - ECPv6.2.9//NONSGML v1.0//EN
CALSCALE:GREGORIAN
METHOD:PUBLISH
X-WR-CALNAME:Hardloopfreak.nl
X-ORIGINAL-URL:https://hardloopfreak.nl
X-WR-CALDESC:Evenementen voor Hardloopfreak.nl
REFRESH-INTERVAL;VALUE=DURATION:PT1H
X-Robots-Tag:noindex
X-PUBLISHED-TTL:PT1H
BEGIN:VTIMEZONE
TZID:UTC
BEGIN:STANDARD
TZOFFSETFROM:+0000
TZOFFSETTO:+0000
TZNAME:UTC
DTSTART:20230101T000000
END:STANDARD
END:VTIMEZONE
BEGIN:VEVENT
DTSTART;VALUE=DATE:20230917
DTEND;VALUE=DATE:20230918
DTSTAMP:20260422T211916
CREATED:20221124T134207Z
LAST-MODIFIED:20221124T134207Z
UID:1612-1694908800-1694995199@hardloopfreak.nl
SUMMARY:Gipmans Young Plants Kwaakerrun
DESCRIPTION:2\,5km\, 5km\, 10km
URL:https://hardloopfreak.nl/wedstrijd/gipmans-young-plants-kwaakerrun/
LOCATION:Kwaakerrun\, Venlo\, Limburg\, Nederland
CATEGORIES:10km,2023,5km
END:VEVENT
END:VCALENDAR