BEGIN:VCALENDAR
VERSION:2.0
PRODID:-//Hardloopfreak.nl - ECPv6.2.9//NONSGML v1.0//EN
CALSCALE:GREGORIAN
METHOD:PUBLISH
X-ORIGINAL-URL:https://hardloopfreak.nl
X-WR-CALDESC:Evenementen voor Hardloopfreak.nl
REFRESH-INTERVAL;VALUE=DURATION:PT1H
X-Robots-Tag:noindex
X-PUBLISHED-TTL:PT1H
BEGIN:VTIMEZONE
TZID:UTC
BEGIN:STANDARD
TZOFFSETFROM:+0000
TZOFFSETTO:+0000
TZNAME:UTC
DTSTART:20230101T000000
END:STANDARD
END:VTIMEZONE
BEGIN:VEVENT
DTSTART;VALUE=DATE:20230513
DTEND;VALUE=DATE:20230514
DTSTAMP:20260423T110035
CREATED:20221124T132004Z
LAST-MODIFIED:20221124T132004Z
UID:1598-1683936000-1684022399@hardloopfreak.nl
SUMMARY:Run2Day Vlinderloop (5km)
DESCRIPTION:5\,2km\, 11\,1km\, 15\,2 km\, halve marathon
URL:https://hardloopfreak.nl/wedstrijd/run2day-vlinderloop-5km/
LOCATION:Vlinderloop Houten\, Houten\, Utrecht\, Netherlands
CATEGORIES:10km,2023,21km,5km
END:VEVENT
BEGIN:VEVENT
DTSTART;VALUE=DATE:20230514
DTEND;VALUE=DATE:20230515
DTSTAMP:20260423T110035
CREATED:20221124T133513Z
LAST-MODIFIED:20221124T133513Z
UID:1602-1684022400-1684108799@hardloopfreak.nl
SUMMARY:LOOP Leeuwarden
DESCRIPTION:5km\, 10km\, halve marathon
URL:https://hardloopfreak.nl/wedstrijd/loop-leeuwarden/
LOCATION:LOOP Leeuwarden\, Leeuwarden\, Friesland\, Nederland
CATEGORIES:10km,21km,5km
END:VEVENT
BEGIN:VEVENT
DTSTART;VALUE=DATE:20230521
DTEND;VALUE=DATE:20230522
DTSTAMP:20260423T110035
CREATED:20221124T133915Z
LAST-MODIFIED:20221124T133915Z
UID:1607-1684627200-1684713599@hardloopfreak.nl
SUMMARY:Marathon Via Belgica
DESCRIPTION:marathon
URL:https://hardloopfreak.nl/wedstrijd/marathon-via-belgica/
LOCATION:Marathon Via Belgica\, Landgraaf\, Limburg\, Nederland
CATEGORIES:42km
END:VEVENT
BEGIN:VEVENT
DTSTART;VALUE=DATE:20230917
DTEND;VALUE=DATE:20230918
DTSTAMP:20260423T110035
CREATED:20221124T134207Z
LAST-MODIFIED:20221124T134207Z
UID:1612-1694908800-1694995199@hardloopfreak.nl
SUMMARY:Gipmans Young Plants Kwaakerrun
DESCRIPTION:2\,5km\, 5km\, 10km
URL:https://hardloopfreak.nl/wedstrijd/gipmans-young-plants-kwaakerrun/
LOCATION:Kwaakerrun\, Venlo\, Limburg\, Nederland
CATEGORIES:10km,2023,5km
END:VEVENT
BEGIN:VEVENT
DTSTART;VALUE=DATE:20231001
DTEND;VALUE=DATE:20231002
DTSTAMP:20260423T110035
CREATED:20221124T134710Z
LAST-MODIFIED:20221124T134737Z
UID:1617-1696118400-1696204799@hardloopfreak.nl
SUMMARY:7-loop
DESCRIPTION:5km\, 10km\, 16\,1km
URL:https://hardloopfreak.nl/wedstrijd/7-loop/
LOCATION:7-loop\, Zevenhoven\, Zuid-Holland\, Nederland
CATEGORIES:10km,15km,2023,5km
END:VEVENT
BEGIN:VEVENT
DTSTART;VALUE=DATE:20231015
DTEND;VALUE=DATE:20231016
DTSTAMP:20260423T110035
CREATED:20221124T131748Z
LAST-MODIFIED:20221124T131748Z
UID:1595-1697328000-1697414399@hardloopfreak.nl
SUMMARY:TCS Amsterdam Marathon
DESCRIPTION:800m\, 8km\, halve marathon\, marathon
URL:https://hardloopfreak.nl/wedstrijd/tcs-amsterdam-marathon/
LOCATION:Amsterdam Marathon\, Amsterdam\, Noord-Holland\, Nederland
CATEGORIES:2023,21km,42km
END:VEVENT
END:VCALENDAR