BEGIN:VCALENDAR
VERSION:2.0
PRODID:-//Hardloopfreak.nl - ECPv6.2.9//NONSGML v1.0//EN
CALSCALE:GREGORIAN
METHOD:PUBLISH
X-ORIGINAL-URL:https://hardloopfreak.nl
X-WR-CALDESC:Evenementen voor Hardloopfreak.nl
REFRESH-INTERVAL;VALUE=DURATION:PT1H
X-Robots-Tag:noindex
X-PUBLISHED-TTL:PT1H
BEGIN:VTIMEZONE
TZID:UTC
BEGIN:STANDARD
TZOFFSETFROM:+0000
TZOFFSETTO:+0000
TZNAME:UTC
DTSTART:20230101T000000
END:STANDARD
END:VTIMEZONE
BEGIN:VEVENT
DTSTART;VALUE=DATE:20231015
DTEND;VALUE=DATE:20231016
DTSTAMP:20260422T223857
CREATED:20221124T131748Z
LAST-MODIFIED:20221124T131748Z
UID:1595-1697328000-1697414399@hardloopfreak.nl
SUMMARY:TCS Amsterdam Marathon
DESCRIPTION:800m\, 8km\, halve marathon\, marathon
URL:https://hardloopfreak.nl/wedstrijd/tcs-amsterdam-marathon/
LOCATION:Amsterdam Marathon\, Amsterdam\, Noord-Holland\, Nederland
CATEGORIES:2023,21km,42km
END:VEVENT
END:VCALENDAR